BEGIN:VCALENDAR
VERSION:2.0
PRODID:spatie/icalendar-generator
BEGIN:VTIMEZONE
TZID:UTC
BEGIN:STANDARD
DTSTART:20250513T080000
TZOFFSETFROM:+0000
TZOFFSETTO:+0000
END:STANDARD
END:VTIMEZONE
BEGIN:VEVENT
UID:8821bc26-9687-4b53-b1f0-97aee74939c0--0
DTSTAMP:20260403T131417Z
SUMMARY:Management &amp; Leadership voor Artsen
LOCATION:
ORGANIZER;CN=The GHALL:MAILTO:ghall@ugent.be
DTSTART:20260207T080000Z
DTEND:20270619T150000Z
END:VEVENT
END:VCALENDAR