BEGIN:VCALENDAR
VERSION:2.0
PRODID:spatie/icalendar-generator
BEGIN:VTIMEZONE
TZID:UTC
BEGIN:STANDARD
DTSTART:20250405T230000
TZOFFSETFROM:+0000
TZOFFSETTO:+0000
END:STANDARD
END:VTIMEZONE
BEGIN:VEVENT
UID:619bdcf7-700b-4a53-9688-9c4c9f2c9f66--0
DTSTAMP:20260403T140914Z
SUMMARY:Bijzondere bekwaamheid in de pelvische reëducatie en de perinatale
  kinesitherapie 
LOCATION:
ORGANIZER;CN=The GHALL:MAILTO:ghall@ugent.be
DTSTART:20251231T230000Z
DTEND:20271230T230000Z
END:VEVENT
END:VCALENDAR